BEGIN:VCALENDAR
VERSION:2.0
PRODID:-//Barfleet - ECPv6.7.1//NONSGML v1.0//EN
CALSCALE:GREGORIAN
METHOD:PUBLISH
X-ORIGINAL-URL:https://barfleet.org
X-WR-CALDESC:Events for Barfleet
REFRESH-INTERVAL;VALUE=DURATION:PT1H
X-Robots-Tag:noindex
X-PUBLISHED-TTL:PT1H
BEGIN:VTIMEZONE
TZID:America/New_York
BEGIN:DAYLIGHT
TZOFFSETFROM:-0500
TZOFFSETTO:-0400
TZNAME:EDT
DTSTART:20160313T070000
END:DAYLIGHT
BEGIN:STANDARD
TZOFFSETFROM:-0400
TZOFFSETTO:-0500
TZNAME:EST
DTSTART:20161106T060000
END:STANDARD
END:VTIMEZONE
BEGIN:VEVENT
DTSTART;VALUE=DATE:20160429
DTEND;VALUE=DATE:20160503
DTSTAMP:20260420T202204
CREATED:20160121T011407Z
LAST-MODIFIED:20160121T011407Z
UID:217-1461902400-1462161599@barfleet.org
SUMMARY:PenguiCon
DESCRIPTION:Penguicon 2016 \n\n U.B.S. Delirium – Southfield\, MI\nOpen to Registered Convention Attendees
URL:https://barfleet.org/event/penguicon/
LOCATION:Southfield Westin\, 1500 Town Center\, Southfield\, MI\, 48075\, United States
CATEGORIES:U.B.S. Delirium
END:VEVENT
BEGIN:VEVENT
DTSTART;VALUE=DATE:20160506
DTEND;VALUE=DATE:20160510
DTSTAMP:20260420T202204
CREATED:20160121T011640Z
LAST-MODIFIED:20160121T011640Z
UID:219-1462507200-1462766399@barfleet.org
SUMMARY:MarCon
DESCRIPTION:MarCon 51 \n\n U.B.B. Columbus – Columbus\, OH\nOpen to Registered Convention Attendees
URL:https://barfleet.org/event/marcon/
LOCATION:Hyatt Regency Columbus\, 350 North High Street\, Columbus\, OH\, 43213\, United States
CATEGORIES:U.B.B. Columbus
END:VEVENT
BEGIN:VEVENT
DTSTART;VALUE=DATE:20160520
DTEND;VALUE=DATE:20160524
DTSTAMP:20260420T202204
CREATED:20160121T011951Z
LAST-MODIFIED:20160121T011951Z
UID:221-1463716800-1463975999@barfleet.org
SUMMARY:NautiCon
DESCRIPTION:NautiCon \n\n U.B.S. Shameless – Provincetown\, MA\nOpen to Registered Convention Attendees
URL:https://barfleet.org/event/nauticon/
LOCATION:Provincetown Inn\, 1 Commercial St.\, Provincetown\, MA\, 02657\, United States
CATEGORIES:U.B.S. Shameless
END:VEVENT
BEGIN:VEVENT
DTSTART;VALUE=DATE:20160526
DTEND;VALUE=DATE:20160601
DTSTAMP:20260420T202204
CREATED:20160129T085922Z
LAST-MODIFIED:20160129T085922Z
UID:224-1464235200-1464667199@barfleet.org
SUMMARY:Barfleet Summer Games
DESCRIPTION:Summer Games \n\nBarfleet Summer Games – College Corners\, OH\nAll-Fleet Event
URL:https://barfleet.org/event/barfleet-summer-games/
LOCATION:IL
END:VEVENT
END:VCALENDAR