BEGIN:VCALENDAR
VERSION:2.0
PRODID:-//Barfleet - ECPv6.7.1//NONSGML v1.0//EN
CALSCALE:GREGORIAN
METHOD:PUBLISH
X-WR-CALNAME:Barfleet
X-ORIGINAL-URL:https://barfleet.org
X-WR-CALDESC:Events for Barfleet
REFRESH-INTERVAL;VALUE=DURATION:PT1H
X-Robots-Tag:noindex
X-PUBLISHED-TTL:PT1H
BEGIN:VTIMEZONE
TZID:America/New_York
BEGIN:DAYLIGHT
TZOFFSETFROM:-0500
TZOFFSETTO:-0400
TZNAME:EDT
DTSTART:20160313T070000
END:DAYLIGHT
BEGIN:STANDARD
TZOFFSETFROM:-0400
TZOFFSETTO:-0500
TZNAME:EST
DTSTART:20161106T060000
END:STANDARD
END:VTIMEZONE
BEGIN:VEVENT
DTSTART;VALUE=DATE:20160115
DTEND;VALUE=DATE:20160119
DTSTAMP:20260420T231227
CREATED:20151229T203246Z
LAST-MODIFIED:20151229T213319Z
UID:145-1452830400-1453089599@barfleet.org
SUMMARY:DeCONpression XIII
DESCRIPTION:DeCONpression XIII \n\nU.B.B. Columbus – Columbus\, OH\nOpen to Registered Convention Attendees
URL:https://barfleet.org/event/deconpression-xiii/
LOCATION:IN
CATEGORIES:U.B.B. Columbus
END:VEVENT
END:VCALENDAR