BEGIN:VCALENDAR
VERSION:2.0
PRODID:-//Barfleet - ECPv6.7.1//NONSGML v1.0//EN
CALSCALE:GREGORIAN
METHOD:PUBLISH
X-WR-CALNAME:Barfleet
X-ORIGINAL-URL:https://barfleet.org
X-WR-CALDESC:Events for Barfleet
REFRESH-INTERVAL;VALUE=DURATION:PT1H
X-Robots-Tag:noindex
X-PUBLISHED-TTL:PT1H
BEGIN:VTIMEZONE
TZID:America/New_York
BEGIN:DAYLIGHT
TZOFFSETFROM:-0500
TZOFFSETTO:-0400
TZNAME:EDT
DTSTART:20160313T070000
END:DAYLIGHT
BEGIN:STANDARD
TZOFFSETFROM:-0400
TZOFFSETTO:-0500
TZNAME:EST
DTSTART:20161106T060000
END:STANDARD
TZID:America/Chicago
BEGIN:DAYLIGHT
TZOFFSETFROM:-0600
TZOFFSETTO:-0500
TZNAME:CDT
DTSTART:20160313T080000
END:DAYLIGHT
BEGIN:STANDARD
TZOFFSETFROM:-0500
TZOFFSETTO:-0600
TZNAME:CST
DTSTART:20161106T070000
END:STANDARD
BEGIN:DAYLIGHT
TZOFFSETFROM:-0600
TZOFFSETTO:-0500
TZNAME:CDT
DTSTART:20170312T080000
END:DAYLIGHT
BEGIN:STANDARD
TZOFFSETFROM:-0500
TZOFFSETTO:-0600
TZNAME:CST
DTSTART:20171105T070000
END:STANDARD
END:VTIMEZONE
BEGIN:VEVENT
DTSTART;VALUE=DATE:20161110
DTEND;VALUE=DATE:20161115
DTSTAMP:20260421T003052
CREATED:20160129T094321Z
LAST-MODIFIED:20160129T095131Z
UID:245-1478750400-1479095999@barfleet.org
SUMMARY:Con on the Cob
DESCRIPTION:Con on the Cob \n\n U.B.S. Casual – Richfield\, OH\nOpen to Registered Convention Attendees
URL:https://barfleet.org/event/con-on-the-cob/
LOCATION:Days Inn Richfield\, 4742 Brecksville Road\, Richfield\, OH\, 444286\, United States
CATEGORIES:U.B.S. Casual
END:VEVENT
BEGIN:VEVENT
DTSTART;VALUE=DATE:20161111
DTEND;VALUE=DATE:20161115
DTSTAMP:20260421T003052
CREATED:20160813T221950Z
LAST-MODIFIED:20161021T171759Z
UID:323-1478836800-1479095999@barfleet.org
SUMMARY:WindyCon 43
DESCRIPTION:U.B.S. Abandon’s Barfleet Party at WindyCon! \n\n U.B.S. Abandon – Chicago\, IL\nFriday – Open to all Registered Convention Attendees\nSaturday – Open to all Registered Convention Attendees
URL:https://barfleet.org/event/windycon-43/
LOCATION:Westin Lombard Yorktown Center\, 70 Yorktown Center\, Lombard\, IL\, 60148\, United States
CATEGORIES:U.B.S. Abandon
END:VEVENT
BEGIN:VEVENT
DTSTART;VALUE=DATE:20161125
DTEND;VALUE=DATE:20161129
DTSTAMP:20260421T003052
CREATED:20160129T095343Z
LAST-MODIFIED:20160129T095343Z
UID:250-1480046400-1480305599@barfleet.org
SUMMARY:Starbase Indy
DESCRIPTION:Starbase Indy \n\n U.B.S. Indycent – Indianapolis\, IN\nOpen to Registered Convention Attendees
URL:https://barfleet.org/event/starbase-indy/
LOCATION:Wyndham Indianapolis West Hotel\, 2544 Executive Dr.\, Indianapolis\, IN\, 46241\, United States
CATEGORIES:U.B.S. Indycent
END:VEVENT
BEGIN:VEVENT
DTSTART;TZID=America/Chicago:20170216T140000
DTEND;TZID=America/Chicago:20170219T150000
DTSTAMP:20260421T003052
CREATED:20170126T034557Z
LAST-MODIFIED:20170126T065135Z
UID:427-1487253600-1487516400@barfleet.org
SUMMARY:Capricon 37
DESCRIPTION:Capricon
URL:https://barfleet.org/event/capricon-37/
LOCATION:Westin North Shore\, Wheeling\, IL\, United States
CATEGORIES:U.B.S. Abandon
END:VEVENT
END:VCALENDAR