BEGIN:VCALENDAR
VERSION:2.0
PRODID:-//Barfleet - ECPv6.7.1//NONSGML v1.0//EN
CALSCALE:GREGORIAN
METHOD:PUBLISH
X-WR-CALNAME:Barfleet
X-ORIGINAL-URL:https://barfleet.org
X-WR-CALDESC:Events for Barfleet
REFRESH-INTERVAL;VALUE=DURATION:PT1H
X-Robots-Tag:noindex
X-PUBLISHED-TTL:PT1H
BEGIN:VTIMEZONE
TZID:America/New_York
BEGIN:DAYLIGHT
TZOFFSETFROM:-0500
TZOFFSETTO:-0400
TZNAME:EDT
DTSTART:20160313T070000
END:DAYLIGHT
BEGIN:STANDARD
TZOFFSETFROM:-0400
TZOFFSETTO:-0500
TZNAME:EST
DTSTART:20161106T060000
END:STANDARD
END:VTIMEZONE
BEGIN:VEVENT
DTSTART;VALUE=DATE:20160803
DTEND;VALUE=DATE:20160809
DTSTAMP:20260420T132058
CREATED:20160129T094935Z
LAST-MODIFIED:20160129T103838Z
UID:247-1470196800-1470628799@barfleet.org
SUMMARY:Star Trek 50th
DESCRIPTION:Star Trek Las Vegas \n\n B.E.F. Mission – Las Vegas\, NV\nOpen to Registered Convention Attendees
URL:https://barfleet.org/event/star-trek-50th/
LOCATION:Rio Las Vegas\, 3700 W. Flamingo Road\, Las Vegas\, NV\, 89103\, United States
END:VEVENT
END:VCALENDAR